BEGIN:VCALENDAR
VERSION:2.0
PRODID:-//Museo Nacional de Artes Escénicas: Almagro, Ciudad Real - ECPv6.15.20//NONSGML v1.0//EN
CALSCALE:GREGORIAN
METHOD:PUBLISH
X-ORIGINAL-URL:https://museodeartesescenicas.inaem.gob.es
X-WR-CALDESC:Eventos para Museo Nacional de Artes Escénicas: Almagro, Ciudad Real
REFRESH-INTERVAL;VALUE=DURATION:PT1H
X-Robots-Tag:noindex
X-PUBLISHED-TTL:PT1H
BEGIN:VTIMEZONE
TZID:Europe/Madrid
BEGIN:DAYLIGHT
TZOFFSETFROM:+0100
TZOFFSETTO:+0200
TZNAME:CEST
DTSTART:20240331T010000
END:DAYLIGHT
BEGIN:STANDARD
TZOFFSETFROM:+0200
TZOFFSETTO:+0100
TZNAME:CET
DTSTART:20241027T010000
END:STANDARD
BEGIN:DAYLIGHT
TZOFFSETFROM:+0100
TZOFFSETTO:+0200
TZNAME:CEST
DTSTART:20250330T010000
END:DAYLIGHT
BEGIN:STANDARD
TZOFFSETFROM:+0200
TZOFFSETTO:+0100
TZNAME:CET
DTSTART:20251026T010000
END:STANDARD
BEGIN:DAYLIGHT
TZOFFSETFROM:+0100
TZOFFSETTO:+0200
TZNAME:CEST
DTSTART:20260329T010000
END:DAYLIGHT
BEGIN:STANDARD
TZOFFSETFROM:+0200
TZOFFSETTO:+0100
TZNAME:CET
DTSTART:20261025T010000
END:STANDARD
END:VTIMEZONE
BEGIN:VEVENT
DTSTART;TZID=Europe/Madrid:20250701T170000
DTEND;TZID=Europe/Madrid:20250725T170000
DTSTAMP:20260420T023904
CREATED:20250612T080150Z
LAST-MODIFIED:20260223T123424Z
UID:11292-1751389200-1753462800@museodeartesescenicas.inaem.gob.es
SUMMARY:Visitas guiadas a la exposición permanente
DESCRIPTION:Del 2 al 25 de julio \nMiércoles\, jueves y viernes: 11.00 * \n*jueves 17 y 24 \, viernes 18 y 25 las visitas serán a las 10.30 \nMartes\, Miércoles\, Jueves y Viernes: 17.00 \nGrupos mínimos de 8 y máximos de 25 \nReservas: 926261014 en horario de Martes a Viernes de 10.00 a 14.00 y de 17.00 a 19.30 \nEl Museo Nacional de Artes Escénicas ofrece visitas guiadas a su exposición permanente\, un espacio único que narra la evolución del teatro\, la danza\, la ópera y el espectáculo en España a través de escenografías\, vestuarios\, documentos y objetos históricos de gran valor simbólico y artístico. \nÁngel Martínez Roger\, comisario de la exposición y doctor en Historia del Arte\, es director de escena\, comisario de grandes muestras internacionales (como la Prague Quadrennial 2019) y profesor universitario. Su mirada experta desvela los significados profundos y conexiones entre el patrimonio escénico y la creación contemporánea. \nAndrea Delicado\, mediadora cultural del Museo\, conducirá las visitas de los días 18 y 25 de julio con una aproximación participativa y cercana\, ideal para quienes deseen descubrir el museo desde una perspectiva actual y accesible.
URL:https://museodeartesescenicas.inaem.gob.es/evento/visitas-guiadas-a-la-exposicion-permanente/
LOCATION:Museo Nacional de Artes Escénicas – Almagro\, Ciudad Real\, 13170
CATEGORIES:Visitas
ATTACH;FMTTYPE=image/jpeg:https://museodeartesescenicas.inaem.gob.es/wp-content/uploads/2025/06/DSC_0092-1-scaled.jpg
END:VEVENT
END:VCALENDAR