BEGIN:VCALENDAR
VERSION:2.0
PRODID:-//Museo Nacional de Artes Escénicas: Almagro, Ciudad Real - ECPv6.15.20//NONSGML v1.0//EN
CALSCALE:GREGORIAN
METHOD:PUBLISH
X-WR-CALNAME:Museo Nacional de Artes Escénicas: Almagro, Ciudad Real
X-ORIGINAL-URL:https://museodeartesescenicas.inaem.gob.es
X-WR-CALDESC:Eventos para Museo Nacional de Artes Escénicas: Almagro, Ciudad Real
REFRESH-INTERVAL;VALUE=DURATION:PT1H
X-Robots-Tag:noindex
X-PUBLISHED-TTL:PT1H
BEGIN:VTIMEZONE
TZID:Europe/Madrid
BEGIN:DAYLIGHT
TZOFFSETFROM:+0100
TZOFFSETTO:+0200
TZNAME:CEST
DTSTART:20230326T010000
END:DAYLIGHT
BEGIN:STANDARD
TZOFFSETFROM:+0200
TZOFFSETTO:+0100
TZNAME:CET
DTSTART:20231029T010000
END:STANDARD
BEGIN:DAYLIGHT
TZOFFSETFROM:+0100
TZOFFSETTO:+0200
TZNAME:CEST
DTSTART:20240331T010000
END:DAYLIGHT
BEGIN:STANDARD
TZOFFSETFROM:+0200
TZOFFSETTO:+0100
TZNAME:CET
DTSTART:20241027T010000
END:STANDARD
BEGIN:DAYLIGHT
TZOFFSETFROM:+0100
TZOFFSETTO:+0200
TZNAME:CEST
DTSTART:20250330T010000
END:DAYLIGHT
BEGIN:STANDARD
TZOFFSETFROM:+0200
TZOFFSETTO:+0100
TZNAME:CET
DTSTART:20251026T010000
END:STANDARD
END:VTIMEZONE
BEGIN:VEVENT
DTSTART;VALUE=DATE:20240907
DTEND;VALUE=DATE:20240929
DTSTAMP:20260422T140442
CREATED:20250130T172107Z
LAST-MODIFIED:20260223T123431Z
UID:7953-1725667200-1727567999@museodeartesescenicas.inaem.gob.es
SUMMARY:Visitas guiadas
DESCRIPTION:Exposición temporal «Calderón\, un escenario imaginado. Cuatro siglos de plástica teatral»\nEspacio: Iglesia de San Agustín\nSeptiembre\nSábados 7\, 14\, 21 y 28 a las 11.30h\nImprescindible reserva en el tel. 926 261 014 de martes a viernes de 10h a 14h \nPor Amparo Segovia
URL:https://museodeartesescenicas.inaem.gob.es/evento/visitas-guiadas/
LOCATION:Iglesia de San Agustín\, C. San Agustín\, 2\, Almagro\, Ciudad Real\, 13270
CATEGORIES:Visitas
ATTACH;FMTTYPE=image/jpeg:https://museodeartesescenicas.inaem.gob.es/wp-content/uploads/2025/01/visitas-guiadas-eventos.jpg
END:VEVENT
END:VCALENDAR