BEGIN:VCALENDAR
VERSION:2.0
PRODID:-//Museo Nacional de Artes Escénicas: Almagro, Ciudad Real - ECPv6.15.20//NONSGML v1.0//EN
CALSCALE:GREGORIAN
METHOD:PUBLISH
X-WR-CALNAME:Museo Nacional de Artes Escénicas: Almagro, Ciudad Real
X-ORIGINAL-URL:https://museodeartesescenicas.inaem.gob.es
X-WR-CALDESC:Eventos para Museo Nacional de Artes Escénicas: Almagro, Ciudad Real
REFRESH-INTERVAL;VALUE=DURATION:PT1H
X-Robots-Tag:noindex
X-PUBLISHED-TTL:PT1H
BEGIN:VTIMEZONE
TZID:Europe/Madrid
BEGIN:DAYLIGHT
TZOFFSETFROM:+0100
TZOFFSETTO:+0200
TZNAME:CEST
DTSTART:20240331T010000
END:DAYLIGHT
BEGIN:STANDARD
TZOFFSETFROM:+0200
TZOFFSETTO:+0100
TZNAME:CET
DTSTART:20241027T010000
END:STANDARD
BEGIN:DAYLIGHT
TZOFFSETFROM:+0100
TZOFFSETTO:+0200
TZNAME:CEST
DTSTART:20250330T010000
END:DAYLIGHT
BEGIN:STANDARD
TZOFFSETFROM:+0200
TZOFFSETTO:+0100
TZNAME:CET
DTSTART:20251026T010000
END:STANDARD
BEGIN:DAYLIGHT
TZOFFSETFROM:+0100
TZOFFSETTO:+0200
TZNAME:CEST
DTSTART:20260329T010000
END:DAYLIGHT
BEGIN:STANDARD
TZOFFSETFROM:+0200
TZOFFSETTO:+0100
TZNAME:CET
DTSTART:20261025T010000
END:STANDARD
END:VTIMEZONE
BEGIN:VEVENT
DTSTART;TZID=Europe/Madrid:20251124T100000
DTEND;TZID=Europe/Madrid:20251124T110000
DTSTAMP:20260421T200809
CREATED:20251119T085051Z
LAST-MODIFIED:20260223T123159Z
UID:12694-1763978400-1763982000@museodeartesescenicas.inaem.gob.es
SUMMARY:Presentación del libro "Don Fernando el emplazado\, ópera española en 3 actos"
DESCRIPTION:PRESENTACIÓN DE LIBRO \nEl Museo Nacional de Artes Escénicas acoge la presentación de la edición crítica de Don Fernando el Emplazado\, ópera española en 3 actos\, a cargo de Francisco Manuel López Gómez. \nIntervienen: \nCésar S. Meléndez\, Vicerrector de Cultura de la UCLM \nAlfred Garcia Femenia\, Archivo e Investigación del MNAE \nJuan José Pastor\, Director del CIDoM \nFrancisco M. López\, autor de la edición \nConcierto: \nStefanica Baitan\, soprano \nJohn Heath\, barítono \nRocío Ruedas\, piano \nUna cita que combina investigación musicológica y interpretación en vivo para redescubrir una obra destacada del patrimonio lírico español. \nLugar: Museo Nacional de Artes Escénicas\, AlmagroFecha y hora: 24 de noviembre\, 10:00 h. \n*Entrada libre hasta completar aforo \n(Aforo muy reducido)
URL:https://museodeartesescenicas.inaem.gob.es/evento/presentacion-del-libro-don-fernando-el-emplazado-opera-espanola-en-3-actos/
LOCATION:Ciudad Real
CATEGORIES:Actividades
END:VEVENT
END:VCALENDAR