BEGIN:VCALENDAR
VERSION:2.0
PRODID:-//Museo Nacional de Artes Escénicas: Almagro, Ciudad Real - ECPv6.15.20//NONSGML v1.0//EN
CALSCALE:GREGORIAN
METHOD:PUBLISH
X-ORIGINAL-URL:https://museodeartesescenicas.inaem.gob.es
X-WR-CALDESC:Eventos para Museo Nacional de Artes Escénicas: Almagro, Ciudad Real
REFRESH-INTERVAL;VALUE=DURATION:PT1H
X-Robots-Tag:noindex
X-PUBLISHED-TTL:PT1H
BEGIN:VTIMEZONE
TZID:Europe/Madrid
BEGIN:DAYLIGHT
TZOFFSETFROM:+0100
TZOFFSETTO:+0200
TZNAME:CEST
DTSTART:20240331T010000
END:DAYLIGHT
BEGIN:STANDARD
TZOFFSETFROM:+0200
TZOFFSETTO:+0100
TZNAME:CET
DTSTART:20241027T010000
END:STANDARD
BEGIN:DAYLIGHT
TZOFFSETFROM:+0100
TZOFFSETTO:+0200
TZNAME:CEST
DTSTART:20250330T010000
END:DAYLIGHT
BEGIN:STANDARD
TZOFFSETFROM:+0200
TZOFFSETTO:+0100
TZNAME:CET
DTSTART:20251026T010000
END:STANDARD
BEGIN:DAYLIGHT
TZOFFSETFROM:+0100
TZOFFSETTO:+0200
TZNAME:CEST
DTSTART:20260329T010000
END:DAYLIGHT
BEGIN:STANDARD
TZOFFSETFROM:+0200
TZOFFSETTO:+0100
TZNAME:CET
DTSTART:20261025T010000
END:STANDARD
END:VTIMEZONE
BEGIN:VEVENT
DTSTART;TZID=Europe/Madrid:20251016T190000
DTEND;TZID=Europe/Madrid:20251018T140000
DTSTAMP:20260421T211823
CREATED:20251014T111442Z
LAST-MODIFIED:20260223T123414Z
UID:12621-1760641200-1760796000@museodeartesescenicas.inaem.gob.es
SUMMARY:XXVII Encuentro Nacional de Encajeras 2025
DESCRIPTION:🧵✨ El Museo Nacional de Artes Escénicas participa en el XXVII Encuentro Nacional de Encajeras de Almagro con dos actividades muy especiales que unen tradición\, arte y diseño. \n📅 Jueves 16 a las 19:00 h\nCharla de Rosa García Andújar\, diseñadora y apasionada defensora de la artesanía textil. \n👗 Sábado 18 a las 13:00 h\nActividad de clausura a cargo del diseñador Alejandro de Miguel\, donde moda y encaje se dan la mano en un cierre único. \n📍 Ambas actividades tendrán lugar en el Claustro del Museo Nacional de Artes Escénicas.\n🎟️ Entrada libre hasta completar aforo. \n¡Ven a disfrutar de la creatividad y la tradición en el corazón de Almagro! ❤️
URL:https://museodeartesescenicas.inaem.gob.es/evento/xxvii-encuentro-nacional-de-encajeras-2025/
LOCATION:Museo Nacional de Artes Escénicas – Almagro\, Ciudad Real\, 13170
CATEGORIES:Actividades
ATTACH;FMTTYPE=image/png:https://museodeartesescenicas.inaem.gob.es/wp-content/uploads/2025/10/XXVII-ENCUENTRO-NACIONAL-DE-ENCAJERAS-ALMAGRO_newsletter.png
END:VEVENT
END:VCALENDAR