BEGIN:VCALENDAR
VERSION:2.0
PRODID:-//Museo Nacional de Artes Escénicas: Almagro, Ciudad Real - ECPv6.15.20//NONSGML v1.0//EN
CALSCALE:GREGORIAN
METHOD:PUBLISH
X-ORIGINAL-URL:https://museodeartesescenicas.inaem.gob.es
X-WR-CALDESC:Eventos para Museo Nacional de Artes Escénicas: Almagro, Ciudad Real
REFRESH-INTERVAL;VALUE=DURATION:PT1H
X-Robots-Tag:noindex
X-PUBLISHED-TTL:PT1H
BEGIN:VTIMEZONE
TZID:Europe/Madrid
BEGIN:DAYLIGHT
TZOFFSETFROM:+0100
TZOFFSETTO:+0200
TZNAME:CEST
DTSTART:20240331T010000
END:DAYLIGHT
BEGIN:STANDARD
TZOFFSETFROM:+0200
TZOFFSETTO:+0100
TZNAME:CET
DTSTART:20241027T010000
END:STANDARD
BEGIN:DAYLIGHT
TZOFFSETFROM:+0100
TZOFFSETTO:+0200
TZNAME:CEST
DTSTART:20250330T010000
END:DAYLIGHT
BEGIN:STANDARD
TZOFFSETFROM:+0200
TZOFFSETTO:+0100
TZNAME:CET
DTSTART:20251026T010000
END:STANDARD
BEGIN:DAYLIGHT
TZOFFSETFROM:+0100
TZOFFSETTO:+0200
TZNAME:CEST
DTSTART:20260329T010000
END:DAYLIGHT
BEGIN:STANDARD
TZOFFSETFROM:+0200
TZOFFSETTO:+0100
TZNAME:CET
DTSTART:20261025T010000
END:STANDARD
END:VTIMEZONE
BEGIN:VEVENT
DTSTART;TZID=Europe/Madrid:20251101T113000
DTEND;TZID=Europe/Madrid:20251102T133000
DTSTAMP:20260421T184358
CREATED:20251013T114024Z
LAST-MODIFIED:20260223T123332Z
UID:12617-1761996600-1762090200@museodeartesescenicas.inaem.gob.es
SUMMARY:Calaveritas felices - Taller infantil / familiar
DESCRIPTION:Taller de construcción de Calaveritas Móviles\n(Catrinas de tradición mexicana y los personajes de Don Juan y Doña Inés de Don Juan Tenorio de Zorrilla) \nTaller didáctico destinado a público infantil-juvenil-familiar. \nEdades: a partir de 7 u 8 años; pueden venir o no acompañados de adultos. \nEn este taller aprenderán a construir una calaverita tamaño DIN A3 (marioneta) y a decorarla según su criterio. Además\, se explicará la importancia y lo que representa para la cultura hispánica el Día de Muertos en México\, así como su relación con nuestra tradición del Don Juan Tenorio y las danzas o bailes de la muerte medievales. \n📋 Inscripción previa necesaria a través del siguiente formulario:👉 https://forms.gle/uBkBGg8a46Vgy8jZ7 \nCOMPLETO \n📅 Días: 1 y 2 de noviembre🕥 Horario: de 11:30 a 13:30
URL:https://museodeartesescenicas.inaem.gob.es/evento/calaveritas-felices-taller-infantil-familiar/
LOCATION:Museo Nacional de Artes Escénicas – Almagro\, Ciudad Real\, 13170
CATEGORIES:Actividades
ATTACH;FMTTYPE=image/png:https://museodeartesescenicas.inaem.gob.es/wp-content/uploads/2025/10/CALAVERITAS-FELICES-prueba-2.png
END:VEVENT
BEGIN:VEVENT
DTSTART;TZID=Europe/Madrid:20251115T120000
DTEND;TZID=Europe/Madrid:20251115T133000
DTSTAMP:20260421T184358
CREATED:20251103T131039Z
LAST-MODIFIED:20260223T123250Z
UID:12682-1763208000-1763213400@museodeartesescenicas.inaem.gob.es
SUMMARY:Qué es la Commedia dell'Arte. Conferencia teatralizada
DESCRIPTION:Qué es la Commedia dell’Arte. Conferencia teatralizada\nAunque solo fuera porque la Commedia dell’Arte subió la mujer a las tablas\, habría que tomarla en consideración y ensalzarla\, pero es que la Commedia dell’Arte es todavía  más: profesionalización del teatro (Commedia mercenaria) basada en la técnica del actor y la búsqueda de la excelencia\, comicidad sin psicologismos e intención de llegar a todos los públicos. \nMáscaras\, arquetipos\, improvisación (Commedia all’Improvisa) y multilingüismo son las condiciones sine qua non para poder hablar de Commedia dell’Arte. \nEn esta conferencia teatralizada\, daremos cuenta de todo ello\, de la energía y de la alegría que emergen en este género\, que inauguró y echó las bases del teatro moderno. \nTras la conferencia como tal\, se invitará al público\, a partir de un estímulo arbitrario de su cosecha\, a propiciar improvisaciones por parte del conferenciante\, desde la máscara. \nActor: Mariano Aguirre- Troupe del Cretino \n  \nEstudió Arte Dramático en la East 15 Acting School\, de Londres. En Reggio-Emilia (Italia)\, realizó el curso del Actor Cómico\, dirigido por el maestro de Commedia dell’Arte\, Antonio Fava\, con quien también completó distintos talleres de teatro cómico \nHa impartido talleres de Commedia dell’Arte en diversas escuelas de teatro y en la Universidad Carlos III. \nDesde 1997 dirige su propia compañía de teatro y danza\, Troupe del Cretino\, perteneciente a Redescena. \n📅 Día: 15 de noviembre🕥 Horario: 12.00 h. \n*Entrada libre hasta completar aforo
URL:https://museodeartesescenicas.inaem.gob.es/evento/que-es-la-commedia-dellarte-conferencia-teatralizada/
LOCATION:Museo Nacional de Artes Escénicas – Almagro\, Ciudad Real\, 13170
CATEGORIES:Actividades
ATTACH;FMTTYPE=image/png:https://museodeartesescenicas.inaem.gob.es/wp-content/uploads/2025/11/Que-es-la-Commedia-dellArte-Conferencia-teatralizada.png
END:VEVENT
BEGIN:VEVENT
DTSTART;TZID=Europe/Madrid:20251124T100000
DTEND;TZID=Europe/Madrid:20251124T110000
DTSTAMP:20260421T184358
CREATED:20251119T085051Z
LAST-MODIFIED:20260223T123159Z
UID:12694-1763978400-1763982000@museodeartesescenicas.inaem.gob.es
SUMMARY:Presentación del libro "Don Fernando el emplazado\, ópera española en 3 actos"
DESCRIPTION:PRESENTACIÓN DE LIBRO \nEl Museo Nacional de Artes Escénicas acoge la presentación de la edición crítica de Don Fernando el Emplazado\, ópera española en 3 actos\, a cargo de Francisco Manuel López Gómez. \nIntervienen: \nCésar S. Meléndez\, Vicerrector de Cultura de la UCLM \nAlfred Garcia Femenia\, Archivo e Investigación del MNAE \nJuan José Pastor\, Director del CIDoM \nFrancisco M. López\, autor de la edición \nConcierto: \nStefanica Baitan\, soprano \nJohn Heath\, barítono \nRocío Ruedas\, piano \nUna cita que combina investigación musicológica y interpretación en vivo para redescubrir una obra destacada del patrimonio lírico español. \nLugar: Museo Nacional de Artes Escénicas\, AlmagroFecha y hora: 24 de noviembre\, 10:00 h. \n*Entrada libre hasta completar aforo \n(Aforo muy reducido)
URL:https://museodeartesescenicas.inaem.gob.es/evento/presentacion-del-libro-don-fernando-el-emplazado-opera-espanola-en-3-actos/
LOCATION:Ciudad Real
CATEGORIES:Actividades
END:VEVENT
END:VCALENDAR